BEGIN:VCALENDAR
METHOD:PUBLISH
VERSION:2.0
CALSCALE:GREGORIAN
PRODID:-//NONSGML WPForms//NONSGML Sugar Calendar Feeds v3.11.0//EN
X-WR-CALNAME:A Christmas Story - Movie Showing
X-WR-CALDESC:New Neighbors Guide
X-WR-TIMEZONE:America/Los_Angeles
BEGIN:VTIMEZONE
TZID:America/Los_Angeles
BEGIN:STANDARD
TZOFFSETFROM:-0700
TZOFFSETTO:-0800
DTSTART:20251102T090000
TZNAME:PST
END:STANDARD
END:VTIMEZONE
BEGIN:VTIMEZONE
TZID:America/Los_Angeles
BEGIN:STANDARD
TZOFFSETFROM:-0700
TZOFFSETTO:-0800
DTSTART:20251102T090000
TZNAME:PST
END:STANDARD
END:VTIMEZONE
BEGIN:VEVENT
SUMMARY:A Christmas Story - Movie Showing
DESCRIPTION:$5 Entry Fee
URL;VALUE=URI:https://newneighborsguide.com/events/a-christmas-story-mov
 ie-showing/
UID:urn:uuid:eb3574f9-f720-434f-8550-bdb08708fffa
STATUS:CONFIRMED
ORGANIZER:
DTSTAMP:20260423T203559Z
DTSTART;TZID=America/Los_Angeles:20251219T190000
DTEND;TZID=America/Los_Angeles:20251219T210000
LOCATION:515 Pacific Ave
END:VEVENT
END:VCALENDAR