BEGIN:VCALENDAR
METHOD:PUBLISH
VERSION:2.0
CALSCALE:GREGORIAN
PRODID:-//NONSGML WPForms//NONSGML Sugar Calendar Feeds v3.11.0//EN
X-WR-CALNAME:Admiral Theater $5 Movie Night: A Christmas Story
X-WR-CALDESC:New Neighbors Guide
X-WR-TIMEZONE:America/Los_Angeles
BEGIN:VTIMEZONE
TZID:America/Los_Angeles
BEGIN:STANDARD
TZOFFSETFROM:-0700
TZOFFSETTO:-0800
DTSTART:20251102T090000
TZNAME:PST
END:STANDARD
END:VTIMEZONE
BEGIN:VTIMEZONE
TZID:America/Los_Angeles
BEGIN:STANDARD
TZOFFSETFROM:-0700
TZOFFSETTO:-0800
DTSTART:20251102T090000
TZNAME:PST
END:STANDARD
END:VTIMEZONE
BEGIN:VEVENT
SUMMARY:Admiral Theater $5 Movie Night: A Christmas Story
DESCRIPTION:Admiral Theater $5 Movie Night: A Christmas Story\n\nDecembe
 r 19\, 20257:00 pm - 8:30 pm\n\nAdmiral Theatre515 Pacific Ave Bremerton
  WA 98337\n\n515 Pacific Ave - Google Maps\n\nPeter Billingsley\, Darren
  McGavin\, Melinda Dillon\, Ian Petrella\, and Scott Schwartz star in Di
 rector Bob Clark’s 1983 holiday classic "A Christmas Story." In the 19
 40s\, a young boy named Ralphie Parker attempts to convince his parents\
 , teacher\, and Santa Claus that a Red Ryder Range 200 Shot BB gun reall
 y is the perfect Christmas gift.\n\n&nbsp\;
URL;VALUE=URI:https://newneighborsguide.com/events/admiral-theater-5-mov
 ie-night-a-christmas-story/
UID:urn:uuid:d6531f5d-ca9a-47a3-b1dd-154414a467a7
STATUS:CONFIRMED
ORGANIZER:
DTSTAMP:20260423T154346Z
DTSTART;TZID=America/Los_Angeles:20251219T190000
DTEND;TZID=America/Los_Angeles:20251219T203000
END:VEVENT
END:VCALENDAR