BEGIN:VCALENDAR
METHOD:PUBLISH
VERSION:2.0
CALSCALE:GREGORIAN
PRODID:-//NONSGML WPForms//NONSGML Sugar Calendar Feeds v3.11.0//EN
X-WR-CALNAME:Afternoon On The Trails
X-WR-CALDESC:New Neighbors Guide
X-WR-TIMEZONE:America/Los_Angeles
BEGIN:VTIMEZONE
TZID:America/Los_Angeles
BEGIN:STANDARD
TZOFFSETFROM:-0700
TZOFFSETTO:-0800
DTSTART:20251102T090000
TZNAME:PST
END:STANDARD
END:VTIMEZONE
BEGIN:VTIMEZONE
TZID:America/Los_Angeles
BEGIN:STANDARD
TZOFFSETFROM:-0700
TZOFFSETTO:-0800
DTSTART:20251102T090000
TZNAME:PST
END:STANDARD
END:VTIMEZONE
BEGIN:VEVENT
SUMMARY:Afternoon On The Trails
DESCRIPTION:IslandWood’s trail systems will be open this day only for 
 your self-guided exploration.\nSunday\, March 1 · 1 - 5pm PST
URL;VALUE=URI:https://newneighborsguide.com/events/afternoon-on-the-trai
 ls/
UID:urn:uuid:2172fce8-f9a9-4cd9-8dd6-a6208adfec31
STATUS:CONFIRMED
ORGANIZER:
DTSTAMP:20260423T044459Z
DTSTART;TZID=America/Los_Angeles:20260301T130000
DTEND;TZID=America/Los_Angeles:20260301T170000
LOCATION:4450 Blakely Avenue Northeast
END:VEVENT
END:VCALENDAR