BEGIN:VCALENDAR
METHOD:PUBLISH
VERSION:2.0
CALSCALE:GREGORIAN
PRODID:-//NONSGML WPForms//NONSGML Sugar Calendar Feeds v3.11.0//EN
X-WR-CALNAME:Amorous Amphibians Nighthike
X-WR-CALDESC:New Neighbors Guide
X-WR-TIMEZONE:America/Los_Angeles
BEGIN:VTIMEZONE
TZID:America/Los_Angeles
BEGIN:STANDARD
TZOFFSETFROM:-0700
TZOFFSETTO:-0800
DTSTART:20251102T090000
TZNAME:PST
END:STANDARD
BEGIN:DAYLIGHT
TZOFFSETFROM:-0800
TZOFFSETTO:-0700
DTSTART:20260308T100000
TZNAME:PDT
END:DAYLIGHT
END:VTIMEZONE
BEGIN:VTIMEZONE
TZID:America/Los_Angeles
BEGIN:STANDARD
TZOFFSETFROM:-0700
TZOFFSETTO:-0800
DTSTART:20251102T090000
TZNAME:PST
END:STANDARD
BEGIN:DAYLIGHT
TZOFFSETFROM:-0800
TZOFFSETTO:-0700
DTSTART:20260308T100000
TZNAME:PDT
END:DAYLIGHT
END:VTIMEZONE
BEGIN:VEVENT
SUMMARY:Amorous Amphibians Nighthike
DESCRIPTION:Participants will learn about native frogs\, their calls and
  habits in an engaging visual and audio presentation and then head into 
 our frog-filled wetlands at dusk to hunt for breeding frogs\, toads\, sa
 lamanders\, newts and their eggs. This event is always a sell-out\, so h
 op to it!
URL;VALUE=URI:https://newneighborsguide.com/events/amorous-amphibians-ni
 ghthike/
UID:urn:uuid:ad66d560-52af-4444-b5f4-cc6f348f470a
STATUS:CONFIRMED
ORGANIZER:
DTSTAMP:20260423T011317Z
DTSTART;TZID=America/Los_Angeles:20260328T183000
DTEND;TZID=America/Los_Angeles:20260328T203000
LOCATION:4450 Blakely Avenue Northeast
END:VEVENT
END:VCALENDAR