BEGIN:VCALENDAR
METHOD:PUBLISH
VERSION:2.0
CALSCALE:GREGORIAN
PRODID:-//NONSGML WPForms//NONSGML Sugar Calendar Feeds v3.11.0//EN
X-WR-CALNAME:Artvana Valentine Paint & Sip at Bainbridge Island Vineyard
 s
X-WR-CALDESC:New Neighbors Guide
X-WR-TIMEZONE:America/Los_Angeles
BEGIN:VTIMEZONE
TZID:America/Los_Angeles
BEGIN:STANDARD
TZOFFSETFROM:-0700
TZOFFSETTO:-0800
DTSTART:20251102T090000
TZNAME:PST
END:STANDARD
END:VTIMEZONE
BEGIN:VTIMEZONE
TZID:America/Los_Angeles
BEGIN:STANDARD
TZOFFSETFROM:-0700
TZOFFSETTO:-0800
DTSTART:20251102T090000
TZNAME:PST
END:STANDARD
END:VTIMEZONE
BEGIN:VEVENT
SUMMARY:Artvana Valentine Paint & Sip at Bainbridge Island Vineyards
DESCRIPTION:Join for an acrylic painting class on beautiful Bainbridge I
 sland's local vineyard! It's time to get inspired and ignite your creati
 vity
URL;VALUE=URI:https://newneighborsguide.com/events/artvana-valentine-pai
 nt-sip-at-bainbridge-island-vineyards/
UID:urn:uuid:6f858d28-6170-4d17-a8ba-9f6b283e6625
STATUS:CONFIRMED
ORGANIZER:
DTSTAMP:20260422T232814Z
DTSTART;TZID=America/Los_Angeles:20260214T150000
DTEND;TZID=America/Los_Angeles:20260214T170000
LOCATION:8989 Northeast Day Road
END:VEVENT
END:VCALENDAR