BEGIN:VCALENDAR
METHOD:PUBLISH
VERSION:2.0
CALSCALE:GREGORIAN
PRODID:-//NONSGML WPForms//NONSGML Sugar Calendar Feeds v3.11.0//EN
X-WR-CALNAME:Bainbridge Island Environmental Conference: Rising Tides
X-WR-CALDESC:New Neighbors Guide
X-WR-TIMEZONE:America/Los_Angeles
BEGIN:VTIMEZONE
TZID:America/Los_Angeles
BEGIN:STANDARD
TZOFFSETFROM:-0700
TZOFFSETTO:-0800
DTSTART:20251102T090000
TZNAME:PST
END:STANDARD
BEGIN:DAYLIGHT
TZOFFSETFROM:-0800
TZOFFSETTO:-0700
DTSTART:20260308T100000
TZNAME:PDT
END:DAYLIGHT
END:VTIMEZONE
BEGIN:VTIMEZONE
TZID:America/Los_Angeles
BEGIN:STANDARD
TZOFFSETFROM:-0700
TZOFFSETTO:-0800
DTSTART:20251102T090000
TZNAME:PST
END:STANDARD
BEGIN:DAYLIGHT
TZOFFSETFROM:-0800
TZOFFSETTO:-0700
DTSTART:20260308T100000
TZNAME:PDT
END:DAYLIGHT
END:VTIMEZONE
BEGIN:VEVENT
SUMMARY:Bainbridge Island Environmental Conference: Rising Tides
DESCRIPTION:The Bainbridge Island Environmental Conference brings togeth
 er scientists\, local governments\, Tribal partners\, nonprofit organiza
 tions\, artists\, and community members to explore what sea level rise m
 eans for our island and how we can respond together.\n\nIslandWood\, Bai
 nbridge Island\, WA\nSunday\, Mar 29 from 12:30 pm to 4 pm PDT
URL;VALUE=URI:https://newneighborsguide.com/events/bainbridge-island-env
 ironmental-conference-rising-tides/
UID:urn:uuid:3f4d06e4-243a-4cb2-a9b1-79c46851de0c
STATUS:CONFIRMED
ORGANIZER:
DTSTAMP:20260422T125513Z
DTSTART;TZID=America/Los_Angeles:20260329T123000
DTEND;TZID=America/Los_Angeles:20260329T160000
LOCATION:4450 Blakely Avenue Northeast
END:VEVENT
END:VCALENDAR