BEGIN:VCALENDAR
METHOD:PUBLISH
VERSION:2.0
CALSCALE:GREGORIAN
PRODID:-//NONSGML WPForms//NONSGML Sugar Calendar Feeds v3.11.0//EN
X-WR-CALNAME:Black History Month Soirée
X-WR-CALDESC:New Neighbors Guide
X-WR-TIMEZONE:America/Los_Angeles
BEGIN:VTIMEZONE
TZID:America/Los_Angeles
BEGIN:STANDARD
TZOFFSETFROM:-0700
TZOFFSETTO:-0800
DTSTART:20251102T090000
TZNAME:PST
END:STANDARD
END:VTIMEZONE
BEGIN:VTIMEZONE
TZID:America/Los_Angeles
BEGIN:STANDARD
TZOFFSETFROM:-0700
TZOFFSETTO:-0800
DTSTART:20251102T090000
TZNAME:PST
END:STANDARD
END:VTIMEZONE
BEGIN:VEVENT
SUMMARY:Black History Month Soirée
DESCRIPTION:BIMA’s annual Black History Month Soirée is a celebration
  of Black culture\, creativity\, and community. The museum comes alive w
 ith live music\, performances\, art-making\, and a marketplace spotlight
 ing Black-owned businesses\, all centered around connection and shared e
 xperience.\n\nAll are welcome.\n\nEvent partners:\n\nElevate PR Manageme
 nt\n\nBlack Love Market\n\nArtwork by Jite Agbro
URL;VALUE=URI:https://newneighborsguide.com/events/black-history-month-s
 oiree/
UID:urn:uuid:a70b753c-06a0-47d8-81bb-b34e41812bba
STATUS:CONFIRMED
ORGANIZER:
DTSTAMP:20260423T033028Z
DTSTART;TZID=America/Los_Angeles:20260221T180000
DTEND;TZID=America/Los_Angeles:20260221T210000
LOCATION:550 Winslow Way East
END:VEVENT
END:VCALENDAR