BEGIN:VCALENDAR
METHOD:PUBLISH
VERSION:2.0
CALSCALE:GREGORIAN
PRODID:-//NONSGML WPForms//NONSGML Sugar Calendar Feeds v3.11.0//EN
X-WR-CALNAME:Bremerton Armed Forces Day Parade
X-WR-CALDESC:New Neighbors Guide
X-WR-TIMEZONE:America/Los_Angeles
BEGIN:VTIMEZONE
TZID:America/Los_Angeles
BEGIN:DAYLIGHT
TZOFFSETFROM:-0800
TZOFFSETTO:-0700
DTSTART:20260308T100000
TZNAME:PDT
END:DAYLIGHT
END:VTIMEZONE
BEGIN:VTIMEZONE
TZID:America/Los_Angeles
BEGIN:DAYLIGHT
TZOFFSETFROM:-0800
TZOFFSETTO:-0700
DTSTART:20260308T100000
TZNAME:PDT
END:DAYLIGHT
END:VTIMEZONE
BEGIN:VEVENT
SUMMARY:Bremerton Armed Forces Day Parade
DESCRIPTION:
URL;VALUE=URI:https://newneighborsguide.com/events/bremerton-armed-force
 s-day-parade/
UID:urn:uuid:5fa12402-f6a6-4e83-a74b-b495aeadedff
STATUS:CONFIRMED
ORGANIZER:
DTSTAMP:20260421T110307Z
DTSTART;VALUE=DATE:20260516
END:VEVENT
END:VCALENDAR