BEGIN:VCALENDAR
METHOD:PUBLISH
VERSION:2.0
CALSCALE:GREGORIAN
PRODID:-//NONSGML WPForms//NONSGML Sugar Calendar Feeds v3.11.0//EN
X-WR-CALNAME:Bremerton Symphony Handel's Messiah
X-WR-CALDESC:New Neighbors Guide
X-WR-TIMEZONE:America/Los_Angeles
BEGIN:VTIMEZONE
TZID:America/Los_Angeles
BEGIN:STANDARD
TZOFFSETFROM:-0700
TZOFFSETTO:-0800
DTSTART:20251102T090000
TZNAME:PST
END:STANDARD
END:VTIMEZONE
BEGIN:VTIMEZONE
TZID:America/Los_Angeles
BEGIN:STANDARD
TZOFFSETFROM:-0700
TZOFFSETTO:-0800
DTSTART:20251102T090000
TZNAME:PST
END:STANDARD
END:VTIMEZONE
BEGIN:VEVENT
SUMMARY:Bremerton Symphony Handel's Messiah
DESCRIPTION:Handel's Messiah\n\n\nSaturday\, Dec 13th\, 2025\, 3:00pmSil
 verdale Lutheran Church11701 Ridgepoint Dr. NW\, Silverdale WA 98383Sund
 ay\, Dec 14th\, 2025\, 3:00pmBremerton Performing Arts Center1500 13th S
 t\, Bremerton\, WA 98337\n\n\n\n\n\n\n\n\n\n\n\n\n\n\nAlan FuttermanMusi
 c Director\n\n\n\n 	\n\n\nAbout\n\n\n\n 	\n\n\nEducation\n\n\n\n 	\n\n\n
 Musicians\n\n\n\n 	\n\n\nTickets\n\n\n\n 	\n\n\nSupport\n\n\n\n\n\n\n\n\
 nCart (0)‏\n\n\n\n\n\n\n\n\n\n\n\n\n\n\n\n\n\n\n\n\n\n\n\n\n\n\n\n\n\
 n\nHandel'sMessiah\n\n\n\n\n\n\n\n\n\n\n\nSaturday\, December 13th • 3
 :00pm\n\n\nSilverdale Lutheran Church11701 Ridgepoint Dr. NW\, Silverdal
 e WA 98383\n\nPurchase Tickets\n\n\n\n\n\n\n\n\n\n\nSunday\, December 14
 th • 3:00pm\n\nPurchase Tickets\n\nBremerton Performing Arts Center150
 0 13th St\, Bremerton\, WA 98337\n\n\n\n\n\nHandel’s Messiah is one o
 f the most beloved and enduring masterpieces in all of classical music
 a powerful celebration of hope\, redemption\, and divine glory. From th
 e glorious celebration of “The Trumpet Shall Sound” to the triumphan
 t majesty of the “Hallelujah” chorus\, this iconic oratorio combines
  stirring solo arias\, vibrant choruses\, and exquisite orchestration in
  a work that continues to inspire and uplift audiences around the world.
  Whether heard for the first time or the hundredth\, Messiah remains a
  transcendent experience and a cornerstone of the choral repertoire. Gue
 st soloists: Emerald Lessley\, Soon Cho\, Andrew Etherington\, and Micah
  Parker.
URL;VALUE=URI:https://newneighborsguide.com/events/bremerton-symphony-ha
 ndels-messiah/
UID:urn:uuid:1768ca9f-643b-4650-bd0a-cbec2324bd3f
STATUS:CONFIRMED
ORGANIZER:
DTSTAMP:20260423T120841Z
DTSTART;VALUE=DATE:20251213
DTEND;VALUE=DATE:20251214
END:VEVENT
END:VCALENDAR