BEGIN:VCALENDAR
METHOD:PUBLISH
VERSION:2.0
CALSCALE:GREGORIAN
PRODID:-//NONSGML WPForms//NONSGML Sugar Calendar Feeds v3.11.0//EN
X-WR-CALNAME:Bremerton Symphony Holiday Concert
X-WR-CALDESC:New Neighbors Guide
X-WR-TIMEZONE:America/Los_Angeles
BEGIN:VTIMEZONE
TZID:America/Los_Angeles
BEGIN:STANDARD
TZOFFSETFROM:-0700
TZOFFSETTO:-0800
DTSTART:20251102T090000
TZNAME:PST
END:STANDARD
END:VTIMEZONE
BEGIN:VTIMEZONE
TZID:America/Los_Angeles
BEGIN:STANDARD
TZOFFSETFROM:-0700
TZOFFSETTO:-0800
DTSTART:20251102T090000
TZNAME:PST
END:STANDARD
END:VTIMEZONE
BEGIN:VEVENT
SUMMARY:Bremerton Symphony Holiday Concert
DESCRIPTION:
URL;VALUE=URI:https://newneighborsguide.com/events/bremerton-symphony-ho
 liday-concert/
UID:urn:uuid:0047578e-f91d-4796-9efa-e14a0f8ff3ff
STATUS:CONFIRMED
ORGANIZER:
DTSTAMP:20260423T085939Z
DTSTART;TZID=America/Los_Angeles:20251220T190000
DTEND;TZID=America/Los_Angeles:20251220T200000
END:VEVENT
END:VCALENDAR