BEGIN:VCALENDAR
METHOD:PUBLISH
VERSION:2.0
CALSCALE:GREGORIAN
PRODID:-//NONSGML WPForms//NONSGML Sugar Calendar Feeds v3.11.0//EN
X-WR-CALNAME:Brunch & Learn: Lemon-Ricotta Pancakes
X-WR-CALDESC:New Neighbors Guide
X-WR-TIMEZONE:America/Los_Angeles
BEGIN:VTIMEZONE
TZID:America/Los_Angeles
BEGIN:STANDARD
TZOFFSETFROM:-0700
TZOFFSETTO:-0800
DTSTART:20251102T090000
TZNAME:PST
END:STANDARD
END:VTIMEZONE
BEGIN:VTIMEZONE
TZID:America/Los_Angeles
BEGIN:STANDARD
TZOFFSETFROM:-0700
TZOFFSETTO:-0800
DTSTART:20251102T090000
TZNAME:PST
END:STANDARD
END:VTIMEZONE
BEGIN:VEVENT
SUMMARY:Brunch & Learn: Lemon-Ricotta Pancakes
DESCRIPTION:Enjoy fluffy lemon ricotta pancakes and learn tips for bring
 ing bright citrus flavor to your morning table.\n\nTown &amp\; Country M
 arkets Poulsbo\, Poulsbo\, WA\nSunday\, Feb 15 from 11 am to 1 pm PST
URL;VALUE=URI:https://newneighborsguide.com/events/brunch-learn-lemon-ri
 cotta-pancakes/
UID:urn:uuid:3f53fb49-d903-4c5c-bd9d-56945f68e472
STATUS:CONFIRMED
ORGANIZER:
DTSTAMP:20260422T200259Z
DTSTART;TZID=America/Los_Angeles:20260215T110000
DTEND;TZID=America/Los_Angeles:20260215T130000
END:VEVENT
END:VCALENDAR