BEGIN:VCALENDAR
METHOD:PUBLISH
VERSION:2.0
CALSCALE:GREGORIAN
PRODID:-//NONSGML WPForms//NONSGML Sugar Calendar Feeds v3.11.0//EN
X-WR-CALNAME:Candlelight Concerts
X-WR-CALDESC:New Neighbors Guide
X-WR-TIMEZONE:America/Los_Angeles
BEGIN:VTIMEZONE
TZID:America/Los_Angeles
BEGIN:STANDARD
TZOFFSETFROM:-0700
TZOFFSETTO:-0800
DTSTART:20251102T090000
TZNAME:PST
END:STANDARD
END:VTIMEZONE
BEGIN:VTIMEZONE
TZID:America/Los_Angeles
BEGIN:STANDARD
TZOFFSETFROM:-0700
TZOFFSETTO:-0800
DTSTART:20251102T090000
TZNAME:PST
END:STANDARD
END:VTIMEZONE
BEGIN:VEVENT
SUMMARY:Candlelight Concerts
DESCRIPTION:
URL;VALUE=URI:https://newneighborsguide.com/events/candlelight-concerts/
UID:urn:uuid:623e8fc8-59c8-4759-95c8-6f9cbc3ab9b1
STATUS:CONFIRMED
ORGANIZER:
DTSTAMP:20260420T235404Z
DTSTART;VALUE=DATE:20251220
END:VEVENT
END:VCALENDAR