BEGIN:VCALENDAR
METHOD:PUBLISH
VERSION:2.0
CALSCALE:GREGORIAN
PRODID:-//NONSGML WPForms//NONSGML Sugar Calendar Feeds v3.11.0//EN
X-WR-CALNAME:Cascade Christian School Impact Auction
X-WR-CALDESC:New Neighbors Guide
X-WR-TIMEZONE:America/Los_Angeles
BEGIN:VTIMEZONE
TZID:America/Los_Angeles
BEGIN:STANDARD
TZOFFSETFROM:-0700
TZOFFSETTO:-0800
DTSTART:20251102T090000
TZNAME:PST
END:STANDARD
BEGIN:DAYLIGHT
TZOFFSETFROM:-0800
TZOFFSETTO:-0700
DTSTART:20260308T100000
TZNAME:PDT
END:DAYLIGHT
END:VTIMEZONE
BEGIN:VTIMEZONE
TZID:America/Los_Angeles
BEGIN:STANDARD
TZOFFSETFROM:-0700
TZOFFSETTO:-0800
DTSTART:20251102T090000
TZNAME:PST
END:STANDARD
BEGIN:DAYLIGHT
TZOFFSETFROM:-0800
TZOFFSETTO:-0700
DTSTART:20260308T100000
TZNAME:PDT
END:DAYLIGHT
END:VTIMEZONE
BEGIN:VEVENT
SUMMARY:Cascade Christian School Impact Auction
DESCRIPTION:Cascade Christian School Impact Auction \n\nMarch 21st\, 6p
 m \n\nHotel Murano\, Tacoma \n\n253.841.1776 | cascadechristian.org/su
 pport
URL;VALUE=URI:https://newneighborsguide.com/events/cascade-christian-sch
 ool-impact-auction/
UID:urn:uuid:7c4f2db0-adfc-4c1d-a5ac-921ee0d97a12
STATUS:CONFIRMED
ORGANIZER:
DTSTAMP:20260423T231811Z
DTSTART;VALUE=DATE:20260321
END:VEVENT
END:VCALENDAR