BEGIN:VCALENDAR
METHOD:PUBLISH
VERSION:2.0
CALSCALE:GREGORIAN
PRODID:-//NONSGML WPForms//NONSGML Sugar Calendar Feeds v3.11.0//EN
X-WR-CALNAME:Chilly Hilly
X-WR-CALDESC:New Neighbors Guide
X-WR-TIMEZONE:America/Los_Angeles
BEGIN:VTIMEZONE
TZID:America/Los_Angeles
BEGIN:STANDARD
TZOFFSETFROM:-0700
TZOFFSETTO:-0800
DTSTART:20251102T090000
TZNAME:PST
END:STANDARD
END:VTIMEZONE
BEGIN:VTIMEZONE
TZID:America/Los_Angeles
BEGIN:STANDARD
TZOFFSETFROM:-0700
TZOFFSETTO:-0800
DTSTART:20251102T090000
TZNAME:PST
END:STANDARD
END:VTIMEZONE
BEGIN:VEVENT
SUMMARY:Chilly Hilly
DESCRIPTION:
URL;VALUE=URI:https://newneighborsguide.com/events/chilly-hilly/
UID:urn:uuid:2e91bb0a-b866-41e7-8ac1-d1864a7a9031
STATUS:CONFIRMED
ORGANIZER:
DTSTAMP:20260422T122356Z
DTSTART;TZID=America/Los_Angeles:20260222T075500
DTEND;TZID=America/Los_Angeles:20260222T085500
END:VEVENT
END:VCALENDAR