BEGIN:VCALENDAR
METHOD:PUBLISH
VERSION:2.0
CALSCALE:GREGORIAN
PRODID:-//NONSGML WPForms//NONSGML Sugar Calendar Feeds v3.11.0//EN
X-WR-CALNAME:Class: Mom & Me Valentine's Day Cookie Decorating
X-WR-CALDESC:New Neighbors Guide
X-WR-TIMEZONE:America/Los_Angeles
BEGIN:VTIMEZONE
TZID:America/Los_Angeles
BEGIN:STANDARD
TZOFFSETFROM:-0700
TZOFFSETTO:-0800
DTSTART:20251102T090000
TZNAME:PST
END:STANDARD
END:VTIMEZONE
BEGIN:VTIMEZONE
TZID:America/Los_Angeles
BEGIN:STANDARD
TZOFFSETFROM:-0700
TZOFFSETTO:-0800
DTSTART:20251102T090000
TZNAME:PST
END:STANDARD
END:VTIMEZONE
BEGIN:VEVENT
SUMMARY:Class: Mom & Me Valentine's Day Cookie Decorating
DESCRIPTION:Inviting kids &amp\; their grown-ups to a cookie decorating 
 class! Leave with 3 delicious works of art for Valentine's Day.\n\n\n 	P
 oulsbo Market\n 	Saturday\, February 14\, 3-5pm
URL;VALUE=URI:https://newneighborsguide.com/events/class-mom-me-valentin
 es-day-cookie-decorating/
UID:urn:uuid:ed9dcbfe-1aa2-421d-b118-f58f2e0f33f8
STATUS:CONFIRMED
ORGANIZER:
DTSTAMP:20260422T180911Z
DTSTART;TZID=America/Los_Angeles:20260214T150000
DTEND;TZID=America/Los_Angeles:20260214T170000
LOCATION:20148 10th Ave NE
END:VEVENT
END:VCALENDAR