BEGIN:VCALENDAR
METHOD:PUBLISH
VERSION:2.0
CALSCALE:GREGORIAN
PRODID:-//NONSGML WPForms//NONSGML Sugar Calendar Feeds v3.11.0//EN
X-WR-CALNAME:Family - Friendly New Year's Eve Party
X-WR-CALDESC:New Neighbors Guide
X-WR-TIMEZONE:America/Los_Angeles
BEGIN:VTIMEZONE
TZID:America/Los_Angeles
BEGIN:STANDARD
TZOFFSETFROM:-0700
TZOFFSETTO:-0800
DTSTART:20251102T090000
TZNAME:PST
END:STANDARD
END:VTIMEZONE
BEGIN:VTIMEZONE
TZID:America/Los_Angeles
BEGIN:STANDARD
TZOFFSETFROM:-0700
TZOFFSETTO:-0800
DTSTART:20251102T090000
TZNAME:PST
END:STANDARD
END:VTIMEZONE
BEGIN:VEVENT
SUMMARY:Family - Friendly New Year's Eve Party
DESCRIPTION:
URL;VALUE=URI:https://newneighborsguide.com/events/family-friendly-new-y
 ears-eve-party/
UID:urn:uuid:d58a8a90-1592-4268-bead-4ed5fd2d58f3
STATUS:CONFIRMED
ORGANIZER:
DTSTAMP:20260422T135752Z
DTSTART;TZID=America/Los_Angeles:20251231T110000
DTEND;TZID=America/Los_Angeles:20251231T130000
END:VEVENT
END:VCALENDAR