BEGIN:VCALENDAR
METHOD:PUBLISH
VERSION:2.0
CALSCALE:GREGORIAN
PRODID:-//NONSGML WPForms//NONSGML Sugar Calendar Feeds v3.11.0//EN
X-WR-CALNAME:Gnomes’ Night Out: The Emerald Edition
X-WR-CALDESC:New Neighbors Guide
X-WR-TIMEZONE:America/Los_Angeles
BEGIN:VTIMEZONE
TZID:America/Los_Angeles
BEGIN:STANDARD
TZOFFSETFROM:-0700
TZOFFSETTO:-0800
DTSTART:20251102T090000
TZNAME:PST
END:STANDARD
END:VTIMEZONE
BEGIN:VTIMEZONE
TZID:America/Los_Angeles
BEGIN:STANDARD
TZOFFSETFROM:-0700
TZOFFSETTO:-0800
DTSTART:20251102T090000
TZNAME:PST
END:STANDARD
END:VTIMEZONE
BEGIN:VEVENT
SUMMARY:Gnomes’ Night Out: The Emerald Edition
DESCRIPTION:Get your green on and paint some fun at Hidden Harbor’s St
 . Paddy’s Paint Party—cheers to creativity!\n\nHidden Harbor Wine Li
 brary\, Gig Harbor\, WA\nSunday\, Mar 1 from 3 pm to 5 pm PST
URL;VALUE=URI:https://newneighborsguide.com/events/gnomes-night-out-the-
 emerald-edition/
UID:urn:uuid:498693b3-fa11-4ff6-99cd-21aa8f42061f
STATUS:CONFIRMED
ORGANIZER:
DTSTAMP:20260423T013942Z
DTSTART;TZID=America/Los_Angeles:20260301T150000
DTEND;TZID=America/Los_Angeles:20260301T170000
END:VEVENT
END:VCALENDAR