BEGIN:VCALENDAR
METHOD:PUBLISH
VERSION:2.0
CALSCALE:GREGORIAN
PRODID:-//NONSGML WPForms//NONSGML Sugar Calendar Feeds v3.11.0//EN
X-WR-CALNAME:Heart Smart 2026: Build Habits That Last
X-WR-CALDESC:New Neighbors Guide
X-WR-TIMEZONE:America/Los_Angeles
BEGIN:VTIMEZONE
TZID:America/Los_Angeles
BEGIN:STANDARD
TZOFFSETFROM:-0700
TZOFFSETTO:-0800
DTSTART:20251102T090000
TZNAME:PST
END:STANDARD
END:VTIMEZONE
BEGIN:VTIMEZONE
TZID:America/Los_Angeles
BEGIN:STANDARD
TZOFFSETFROM:-0700
TZOFFSETTO:-0800
DTSTART:20251102T090000
TZNAME:PST
END:STANDARD
END:VTIMEZONE
BEGIN:VEVENT
SUMMARY:Heart Smart 2026: Build Habits That Last
DESCRIPTION:Join us in 2026 to learn fun\, lasting habits that keep your
  heart healthy and happy!\nKitsap Physical Therapy and Sports Clinics - 
 Poulsbo Village Poulsbo\, WA\n\nWednesday\, Feb 11 from 1 pm to 2 pm PST
URL;VALUE=URI:https://newneighborsguide.com/events/heart-smart-2026-buil
 d-habits-that-last/
UID:urn:uuid:9cc68249-d2f0-40ff-9b63-b1dcbe01ee81
STATUS:CONFIRMED
ORGANIZER:
DTSTAMP:20260423T033608Z
DTSTART;TZID=America/Los_Angeles:20260211T130000
DTEND;TZID=America/Los_Angeles:20260211T140000
END:VEVENT
END:VCALENDAR