BEGIN:VCALENDAR
METHOD:PUBLISH
VERSION:2.0
CALSCALE:GREGORIAN
PRODID:-//NONSGML WPForms//NONSGML Sugar Calendar Feeds v3.11.0//EN
X-WR-CALNAME:Hometown Band Concert
X-WR-CALDESC:New Neighbors Guide
X-WR-TIMEZONE:America/Los_Angeles
BEGIN:VTIMEZONE
TZID:America/Los_Angeles
BEGIN:STANDARD
TZOFFSETFROM:-0700
TZOFFSETTO:-0800
DTSTART:20251102T090000
TZNAME:PST
END:STANDARD
END:VTIMEZONE
BEGIN:VTIMEZONE
TZID:America/Los_Angeles
BEGIN:STANDARD
TZOFFSETFROM:-0700
TZOFFSETTO:-0800
DTSTART:20251102T090000
TZNAME:PST
END:STANDARD
END:VTIMEZONE
BEGIN:VEVENT
SUMMARY:Hometown Band Concert
DESCRIPTION:
URL;VALUE=URI:https://newneighborsguide.com/events/hometown-band-concert
 -2/
UID:urn:uuid:1454ce7e-e5d8-412d-b20d-a12bd866b6fe
STATUS:CONFIRMED
ORGANIZER:
DTSTAMP:20260422T194800Z
DTSTART;TZID=America/Los_Angeles:20251214T150000
DTEND;TZID=America/Los_Angeles:20251214T160000
END:VEVENT
END:VCALENDAR