BEGIN:VCALENDAR
METHOD:PUBLISH
VERSION:2.0
CALSCALE:GREGORIAN
PRODID:-//NONSGML WPForms//NONSGML Sugar Calendar Feeds v3.11.0//EN
X-WR-CALNAME:Hometown Band Concert
X-WR-CALDESC:New Neighbors Guide
X-WR-TIMEZONE:America/Los_Angeles
BEGIN:VTIMEZONE
TZID:America/Los_Angeles
BEGIN:STANDARD
TZOFFSETFROM:-0700
TZOFFSETTO:-0800
DTSTART:20251102T090000
TZNAME:PST
END:STANDARD
END:VTIMEZONE
BEGIN:VTIMEZONE
TZID:America/Los_Angeles
BEGIN:STANDARD
TZOFFSETFROM:-0700
TZOFFSETTO:-0800
DTSTART:20251102T090000
TZNAME:PST
END:STANDARD
END:VTIMEZONE
BEGIN:VEVENT
SUMMARY:Hometown Band Concert
DESCRIPTION:
URL;VALUE=URI:https://newneighborsguide.com/events/hometown-band-concert
 /
UID:urn:uuid:c2ee1af2-7589-432d-b28c-397670fd5d2d
STATUS:CONFIRMED
ORGANIZER:
DTSTAMP:20260422T214322Z
DTSTART;TZID=America/Los_Angeles:20251212T193000
DTEND;TZID=America/Los_Angeles:20251212T203000
END:VEVENT
END:VCALENDAR