BEGIN:VCALENDAR
METHOD:PUBLISH
VERSION:2.0
CALSCALE:GREGORIAN
PRODID:-//NONSGML WPForms//NONSGML Sugar Calendar Feeds v3.11.0//EN
X-WR-CALNAME:It Takes An Island - Community Breakfast
X-WR-CALDESC:New Neighbors Guide
X-WR-TIMEZONE:America/Los_Angeles
BEGIN:VTIMEZONE
TZID:America/Los_Angeles
BEGIN:STANDARD
TZOFFSETFROM:-0700
TZOFFSETTO:-0800
DTSTART:20251102T090000
TZNAME:PST
END:STANDARD
END:VTIMEZONE
BEGIN:VTIMEZONE
TZID:America/Los_Angeles
BEGIN:STANDARD
TZOFFSETFROM:-0700
TZOFFSETTO:-0800
DTSTART:20251102T090000
TZNAME:PST
END:STANDARD
END:VTIMEZONE
BEGIN:VEVENT
SUMMARY:It Takes An Island - Community Breakfast
DESCRIPTION:The It Takes An Island – Community Breakfast will featu
 re youth voices\, a keynote talk by Lisa Sibbett\, Ph.D. in Education\, 
 whose work centers on kinship and found family\, and a shared exploratio
 n of practical ways to strengthen families\, reduce isolation\, and buil
 d communities of care where youth feel supported and seen.\n\nStan Pococ
 k Legacy Rowing Center\, Bainbridge Island\, WA\nWednesday\, Mar 4 from 
 8:30 am to 10:30 am PST
URL;VALUE=URI:https://newneighborsguide.com/events/it-takes-an-island-co
 mmunity-breakfast/
UID:urn:uuid:08684a92-efed-4819-a85e-244ea002dfec
STATUS:CONFIRMED
ORGANIZER:
DTSTAMP:20260422T234445Z
DTSTART;TZID=America/Los_Angeles:20260304T083000
DTEND;TZID=America/Los_Angeles:20260304T103000
LOCATION:301 Shannon Drive Southeast
END:VEVENT
END:VCALENDAR