BEGIN:VCALENDAR
METHOD:PUBLISH
VERSION:2.0
CALSCALE:GREGORIAN
PRODID:-//NONSGML WPForms//NONSGML Sugar Calendar Feeds v3.11.0//EN
X-WR-CALNAME:It's a Wonderful Life - Movie Showing
X-WR-CALDESC:New Neighbors Guide
X-WR-TIMEZONE:America/Los_Angeles
BEGIN:VTIMEZONE
TZID:America/Los_Angeles
BEGIN:STANDARD
TZOFFSETFROM:-0700
TZOFFSETTO:-0800
DTSTART:20251102T090000
TZNAME:PST
END:STANDARD
END:VTIMEZONE
BEGIN:VTIMEZONE
TZID:America/Los_Angeles
BEGIN:STANDARD
TZOFFSETFROM:-0700
TZOFFSETTO:-0800
DTSTART:20251102T090000
TZNAME:PST
END:STANDARD
END:VTIMEZONE
BEGIN:VEVENT
SUMMARY:It's a Wonderful Life - Movie Showing
DESCRIPTION:
URL;VALUE=URI:https://newneighborsguide.com/events/its-a-wonderful-life-
 movie-showing/
UID:urn:uuid:97e213e2-28c0-4d2d-98ae-061eb3800d0e
STATUS:CONFIRMED
ORGANIZER:
DTSTAMP:20260423T190406Z
DTSTART;TZID=America/Los_Angeles:20251220T190000
DTEND;TZID=America/Los_Angeles:20251220T210000
LOCATION:View Dr NE
END:VEVENT
END:VCALENDAR