BEGIN:VCALENDAR
METHOD:PUBLISH
VERSION:2.0
CALSCALE:GREGORIAN
PRODID:-//NONSGML WPForms//NONSGML Sugar Calendar Feeds v3.11.0//EN
X-WR-CALNAME:K-Pop Demon Hunters: Valentine’s Paint & Sip (all ages)
X-WR-CALDESC:New Neighbors Guide
X-WR-TIMEZONE:America/Los_Angeles
BEGIN:VTIMEZONE
TZID:America/Los_Angeles
BEGIN:STANDARD
TZOFFSETFROM:-0700
TZOFFSETTO:-0800
DTSTART:20251102T090000
TZNAME:PST
END:STANDARD
END:VTIMEZONE
BEGIN:VTIMEZONE
TZID:America/Los_Angeles
BEGIN:STANDARD
TZOFFSETFROM:-0700
TZOFFSETTO:-0800
DTSTART:20251102T090000
TZNAME:PST
END:STANDARD
END:VTIMEZONE
BEGIN:VEVENT
SUMMARY:K-Pop Demon Hunters: Valentine’s Paint & Sip (all ages)
DESCRIPTION:Join for a K-Pop Demon Hunters Valentine’s Day Paint &amp\
 ; Sip for all ages! Paint at your own pace using easy transfer templates
 .\n\nAt EDEN Nightclub &amp\; Lounge\, Wheaton Way\, Bremerton\, WA\, US
 ABremerton\, WA\nThis Sunday\, Feb 15 from 3 pm to 6 pm PST
URL;VALUE=URI:https://newneighborsguide.com/events/k-pop-demon-hunters-v
 alentines-paint-sip-all-ages/
UID:urn:uuid:c79971e0-d7bf-4673-9a6a-e8eeacaf5825
STATUS:CONFIRMED
ORGANIZER:
DTSTAMP:20260423T013247Z
DTSTART;TZID=America/Los_Angeles:20260215T150000
DTEND;TZID=America/Los_Angeles:20260215T180000
END:VEVENT
END:VCALENDAR