BEGIN:VCALENDAR
METHOD:PUBLISH
VERSION:2.0
CALSCALE:GREGORIAN
PRODID:-//NONSGML WPForms//NONSGML Sugar Calendar Feeds v3.11.0//EN
X-WR-CALNAME:Kingston Pirate Festival
X-WR-CALDESC:New Neighbors Guide
X-WR-TIMEZONE:America/Los_Angeles
BEGIN:VTIMEZONE
TZID:America/Los_Angeles
BEGIN:DAYLIGHT
TZOFFSETFROM:-0800
TZOFFSETTO:-0700
DTSTART:20260308T100000
TZNAME:PDT
END:DAYLIGHT
END:VTIMEZONE
BEGIN:VTIMEZONE
TZID:America/Los_Angeles
BEGIN:DAYLIGHT
TZOFFSETFROM:-0800
TZOFFSETTO:-0700
DTSTART:20260308T100000
TZNAME:PDT
END:DAYLIGHT
END:VTIMEZONE
BEGIN:VEVENT
SUMMARY:Kingston Pirate Festival
DESCRIPTION:
URL;VALUE=URI:https://newneighborsguide.com/events/kingston-pirate-festi
 val/
UID:urn:uuid:ba09f2f6-5e16-4a12-8f44-c82304fbd002
STATUS:CONFIRMED
ORGANIZER:
DTSTAMP:20260421T081627Z
DTSTART;VALUE=DATE:20260613
END:VEVENT
END:VCALENDAR