BEGIN:VCALENDAR
METHOD:PUBLISH
VERSION:2.0
CALSCALE:GREGORIAN
PRODID:-//NONSGML WPForms//NONSGML Sugar Calendar Feeds v3.11.0//EN
X-WR-CALNAME:Kitsap Mall Pet Pictures
X-WR-CALDESC:New Neighbors Guide
X-WR-TIMEZONE:America/Los_Angeles
BEGIN:VTIMEZONE
TZID:America/Los_Angeles
BEGIN:STANDARD
TZOFFSETFROM:-0700
TZOFFSETTO:-0800
DTSTART:20251102T090000
TZNAME:PST
END:STANDARD
END:VTIMEZONE
BEGIN:VTIMEZONE
TZID:America/Los_Angeles
BEGIN:STANDARD
TZOFFSETFROM:-0700
TZOFFSETTO:-0800
DTSTART:20251102T090000
TZNAME:PST
END:STANDARD
END:VTIMEZONE
BEGIN:VEVENT
SUMMARY:Kitsap Mall Pet Pictures
DESCRIPTION:Kitsap Mall Pet Pictures\n\nnoon-7pm\n\nBring your pets to K
 itsap Mall for Pet Photos with Santa\, happening every Monday from NOW u
 ntil December 15 from 12 PM - 7 PM.\n\n\nWhether they bark\, purr\, or s
 queak (sorry\, no exotic pets! )\, Santa can’t wait to meet your four-
 legged family members. Please keep pets leashed or in crates.\n\n\n Rese
 rve your spot now: Pick Reservation Date
URL;VALUE=URI:https://newneighborsguide.com/events/kitsap-mall-pet-pictu
 res/
UID:urn:uuid:e870c4a9-2476-42ff-bd33-c14935a1fd09
STATUS:CONFIRMED
ORGANIZER:
DTSTAMP:20260423T135556Z
DTSTART;TZID=America/Los_Angeles:20251212T120000
DTEND;TZID=America/Los_Angeles:20251212T190000
END:VEVENT
END:VCALENDAR