BEGIN:VCALENDAR
METHOD:PUBLISH
VERSION:2.0
CALSCALE:GREGORIAN
PRODID:-//NONSGML WPForms//NONSGML Sugar Calendar Feeds v3.11.0//EN
X-WR-CALNAME:Kitsap Water Festival
X-WR-CALDESC:New Neighbors Guide
X-WR-TIMEZONE:America/Los_Angeles
BEGIN:VTIMEZONE
TZID:America/Los_Angeles
BEGIN:DAYLIGHT
TZOFFSETFROM:-0800
TZOFFSETTO:-0700
DTSTART:20260308T100000
TZNAME:PDT
END:DAYLIGHT
END:VTIMEZONE
BEGIN:VTIMEZONE
TZID:America/Los_Angeles
BEGIN:DAYLIGHT
TZOFFSETFROM:-0800
TZOFFSETTO:-0700
DTSTART:20260308T100000
TZNAME:PDT
END:DAYLIGHT
END:VTIMEZONE
BEGIN:VEVENT
SUMMARY:Kitsap Water Festival
DESCRIPTION:
URL;VALUE=URI:https://newneighborsguide.com/events/kitsap-water-festival
 /
UID:urn:uuid:644f6d96-1eb6-49cf-b99f-4d7e6942c2a0
STATUS:CONFIRMED
ORGANIZER:
DTSTAMP:20260421T082610Z
DTSTART;VALUE=DATE:20260512
END:VEVENT
END:VCALENDAR