BEGIN:VCALENDAR
METHOD:PUBLISH
VERSION:2.0
CALSCALE:GREGORIAN
PRODID:-//NONSGML WPForms//NONSGML Sugar Calendar Feeds v3.11.0//EN
X-WR-CALNAME:Kynan Shane - Live at the Eleanor 
X-WR-CALDESC:New Neighbors Guide
X-WR-TIMEZONE:America/Los_Angeles
BEGIN:VTIMEZONE
TZID:America/Los_Angeles
BEGIN:STANDARD
TZOFFSETFROM:-0700
TZOFFSETTO:-0800
DTSTART:20251102T090000
TZNAME:PST
END:STANDARD
BEGIN:DAYLIGHT
TZOFFSETFROM:-0800
TZOFFSETTO:-0700
DTSTART:20260308T100000
TZNAME:PDT
END:DAYLIGHT
END:VTIMEZONE
BEGIN:VTIMEZONE
TZID:America/Los_Angeles
BEGIN:STANDARD
TZOFFSETFROM:-0700
TZOFFSETTO:-0800
DTSTART:20251102T090000
TZNAME:PST
END:STANDARD
BEGIN:DAYLIGHT
TZOFFSETFROM:-0800
TZOFFSETTO:-0700
DTSTART:20260308T100000
TZNAME:PDT
END:DAYLIGHT
END:VTIMEZONE
BEGIN:VEVENT
SUMMARY:Kynan Shane - Live at the Eleanor 
DESCRIPTION:Kynan Shane - Live at the Eleanor \n\nMarch 28th 7pm \n\nT
 acoma Armory\, Roosevelt Room \n\n 253.346.1721 | tacomaartslive.org
URL;VALUE=URI:https://newneighborsguide.com/events/kynan-shane-live-at-t
 he-eleanor/
UID:urn:uuid:f43a3f0d-4fd5-4556-afd6-b488fae5e3b9
STATUS:CONFIRMED
ORGANIZER:
DTSTAMP:20260421T222430Z
DTSTART;TZID=America/Los_Angeles:20260328T190000
DTEND;TZID=America/Los_Angeles:20260328T210000
END:VEVENT
END:VCALENDAR