BEGIN:VCALENDAR
METHOD:PUBLISH
VERSION:2.0
CALSCALE:GREGORIAN
PRODID:-//NONSGML WPForms//NONSGML Sugar Calendar Feeds v3.11.0//EN
X-WR-CALNAME:Lakewood Youth Fishing event
X-WR-CALDESC:New Neighbors Guide
X-WR-TIMEZONE:America/Los_Angeles
BEGIN:VTIMEZONE
TZID:America/Los_Angeles
BEGIN:DAYLIGHT
TZOFFSETFROM:-0800
TZOFFSETTO:-0700
DTSTART:20260308T100000
TZNAME:PDT
END:DAYLIGHT
END:VTIMEZONE
BEGIN:VTIMEZONE
TZID:America/Los_Angeles
BEGIN:DAYLIGHT
TZOFFSETFROM:-0800
TZOFFSETTO:-0700
DTSTART:20260308T100000
TZNAME:PDT
END:DAYLIGHT
END:VTIMEZONE
BEGIN:VEVENT
SUMMARY:Lakewood Youth Fishing event
DESCRIPTION:&nbsp\;\n\nLakewood Youth Fishing event\n\nMay 17th\, 8am-no
 on\n\nHarry Todd Park\, Lakewood\n\ncityoflakewood.us/youth-fishing
URL;VALUE=URI:https://newneighborsguide.com/events/lakewood-youth-fishin
 g-event/
UID:urn:uuid:254ebb3e-0b0f-4519-b3a4-87682ad4d586
STATUS:CONFIRMED
ORGANIZER:
DTSTAMP:20260424T100656Z
DTSTART;TZID=America/Los_Angeles:20260517T080000
DTEND;TZID=America/Los_Angeles:20260517T120000
END:VEVENT
END:VCALENDAR