BEGIN:VCALENDAR
METHOD:PUBLISH
VERSION:2.0
CALSCALE:GREGORIAN
PRODID:-//NONSGML WPForms//NONSGML Sugar Calendar Feeds v3.11.0//EN
X-WR-CALNAME:Let's Build an Orchestra! A Kid's Concert
X-WR-CALDESC:New Neighbors Guide
X-WR-TIMEZONE:America/Los_Angeles
BEGIN:VTIMEZONE
TZID:America/Los_Angeles
BEGIN:STANDARD
TZOFFSETFROM:-0700
TZOFFSETTO:-0800
DTSTART:20251102T090000
TZNAME:PST
END:STANDARD
END:VTIMEZONE
BEGIN:VTIMEZONE
TZID:America/Los_Angeles
BEGIN:STANDARD
TZOFFSETFROM:-0700
TZOFFSETTO:-0800
DTSTART:20251102T090000
TZNAME:PST
END:STANDARD
END:VTIMEZONE
BEGIN:VEVENT
SUMMARY:Let's Build an Orchestra! A Kid's Concert
DESCRIPTION:Let's create some musical magic together with a fun orchestr
 a-building experience just for kids!\n\nNorth Kitsap Community Auditoriu
 m\, Poulsbo\, WA\nSunday\, Feb 22 at 3 pm PST
URL;VALUE=URI:https://newneighborsguide.com/events/lets-build-an-orchest
 ra-a-kids-concert/
UID:urn:uuid:2f69ee1e-ae32-4d5a-a3f0-a8ec80df54b8
STATUS:CONFIRMED
ORGANIZER:
DTSTAMP:20260422T220306Z
DTSTART;TZID=America/Los_Angeles:20260222T150000
DTEND;TZID=America/Los_Angeles:20260222T170000
LOCATION:1881 NE Hostmark Street
END:VEVENT
END:VCALENDAR