BEGIN:VCALENDAR
METHOD:PUBLISH
VERSION:2.0
CALSCALE:GREGORIAN
PRODID:-//NONSGML WPForms//NONSGML Sugar Calendar Feeds v3.11.0//EN
X-WR-CALNAME:Liberty Bay Festival
X-WR-CALDESC:New Neighbors Guide
X-WR-TIMEZONE:America/Los_Angeles
BEGIN:VTIMEZONE
TZID:America/Los_Angeles
BEGIN:DAYLIGHT
TZOFFSETFROM:-0800
TZOFFSETTO:-0700
DTSTART:20260308T100000
TZNAME:PDT
END:DAYLIGHT
END:VTIMEZONE
BEGIN:VTIMEZONE
TZID:America/Los_Angeles
BEGIN:DAYLIGHT
TZOFFSETFROM:-0800
TZOFFSETTO:-0700
DTSTART:20260308T100000
TZNAME:PDT
END:DAYLIGHT
END:VTIMEZONE
BEGIN:VEVENT
SUMMARY:Liberty Bay Festival
DESCRIPTION:
URL;VALUE=URI:https://newneighborsguide.com/events/liberty-bay-festival/
UID:urn:uuid:3daa958b-fd63-42ba-939d-23d68a4e77ae
STATUS:CONFIRMED
ORGANIZER:
DTSTAMP:20260421T100221Z
DTSTART;VALUE=DATE:20260529
DTEND;VALUE=DATE:20260531
END:VEVENT
END:VCALENDAR