BEGIN:VCALENDAR
METHOD:PUBLISH
VERSION:2.0
CALSCALE:GREGORIAN
PRODID:-//NONSGML WPForms//NONSGML Sugar Calendar Feeds v3.11.0//EN
X-WR-CALNAME:Lighted Boat Parade - Bremerton
X-WR-CALDESC:New Neighbors Guide
X-WR-TIMEZONE:America/Los_Angeles
BEGIN:VTIMEZONE
TZID:America/Los_Angeles
BEGIN:STANDARD
TZOFFSETFROM:-0700
TZOFFSETTO:-0800
DTSTART:20251102T090000
TZNAME:PST
END:STANDARD
END:VTIMEZONE
BEGIN:VTIMEZONE
TZID:America/Los_Angeles
BEGIN:STANDARD
TZOFFSETFROM:-0700
TZOFFSETTO:-0800
DTSTART:20251102T090000
TZNAME:PST
END:STANDARD
END:VTIMEZONE
BEGIN:VEVENT
SUMMARY:Lighted Boat Parade - Bremerton
DESCRIPTION:@ 6pm
URL;VALUE=URI:https://newneighborsguide.com/events/lighted-boat-parade-b
 remerton/
UID:urn:uuid:3d02f0bb-1fd9-4796-a4ac-e3ea10deb612
STATUS:CONFIRMED
ORGANIZER:
DTSTAMP:20260424T010850Z
DTSTART;VALUE=DATE:20251212
DTEND;VALUE=DATE:20251213
END:VEVENT
END:VCALENDAR