BEGIN:VCALENDAR
METHOD:PUBLISH
VERSION:2.0
CALSCALE:GREGORIAN
PRODID:-//NONSGML WPForms//NONSGML Sugar Calendar Feeds v3.11.0//EN
X-WR-CALNAME:Live Comedy Show at Dog Days Brewing w/Rodger Lizaola!
X-WR-CALDESC:New Neighbors Guide
X-WR-TIMEZONE:America/Los_Angeles
BEGIN:VTIMEZONE
TZID:America/Los_Angeles
BEGIN:STANDARD
TZOFFSETFROM:-0700
TZOFFSETTO:-0800
DTSTART:20251102T090000
TZNAME:PST
END:STANDARD
END:VTIMEZONE
BEGIN:VTIMEZONE
TZID:America/Los_Angeles
BEGIN:STANDARD
TZOFFSETFROM:-0700
TZOFFSETTO:-0800
DTSTART:20251102T090000
TZNAME:PST
END:STANDARD
END:VTIMEZONE
BEGIN:VEVENT
SUMMARY:Live Comedy Show at Dog Days Brewing w/Rodger Lizaola!
DESCRIPTION:Join for another special night of Live Comedy In Kitsap at D
 og Days Brewing in Downtown Bremerton\, WA
URL;VALUE=URI:https://newneighborsguide.com/events/live-comedy-show-at-d
 og-days-brewing-w-rodger-lizaola/
UID:urn:uuid:5de6e12f-15e9-4701-a2a8-e677dea2e31c
STATUS:CONFIRMED
ORGANIZER:
DTSTAMP:20260423T052331Z
DTSTART;TZID=America/Los_Angeles:20260220T190000
DTEND;TZID=America/Los_Angeles:20260220T203000
END:VEVENT
END:VCALENDAR