BEGIN:VCALENDAR
METHOD:PUBLISH
VERSION:2.0
CALSCALE:GREGORIAN
PRODID:-//NONSGML WPForms//NONSGML Sugar Calendar Feeds v3.11.0//EN
X-WR-CALNAME:Manette Christmas Tree Lighting & Caroling
X-WR-CALDESC:New Neighbors Guide
X-WR-TIMEZONE:America/Los_Angeles
BEGIN:VTIMEZONE
TZID:America/Los_Angeles
BEGIN:STANDARD
TZOFFSETFROM:-0700
TZOFFSETTO:-0800
DTSTART:20251102T090000
TZNAME:PST
END:STANDARD
END:VTIMEZONE
BEGIN:VTIMEZONE
TZID:America/Los_Angeles
BEGIN:STANDARD
TZOFFSETFROM:-0700
TZOFFSETTO:-0800
DTSTART:20251102T090000
TZNAME:PST
END:STANDARD
END:VTIMEZONE
BEGIN:VEVENT
SUMMARY:Manette Christmas Tree Lighting & Caroling
DESCRIPTION:
URL;VALUE=URI:https://newneighborsguide.com/events/manette-christmas-tre
 e-lighting-caroling/
UID:urn:uuid:f9eddd1e-be99-4ba0-87f0-83b5be19deb6
STATUS:CONFIRMED
ORGANIZER:
DTSTAMP:20260422T234125Z
DTSTART;TZID=America/Los_Angeles:20251205T180000
DTEND;TZID=America/Los_Angeles:20251205T220000
END:VEVENT
END:VCALENDAR