BEGIN:VCALENDAR
METHOD:PUBLISH
VERSION:2.0
CALSCALE:GREGORIAN
PRODID:-//NONSGML WPForms//NONSGML Sugar Calendar Feeds v3.11.0//EN
X-WR-CALNAME:Master Gardener’s Plant Sale (at the fairgrounds)
X-WR-CALDESC:New Neighbors Guide
X-WR-TIMEZONE:America/Los_Angeles
BEGIN:VTIMEZONE
TZID:America/Los_Angeles
BEGIN:DAYLIGHT
TZOFFSETFROM:-0800
TZOFFSETTO:-0700
DTSTART:20260308T100000
TZNAME:PDT
END:DAYLIGHT
END:VTIMEZONE
BEGIN:VTIMEZONE
TZID:America/Los_Angeles
BEGIN:DAYLIGHT
TZOFFSETFROM:-0800
TZOFFSETTO:-0700
DTSTART:20260308T100000
TZNAME:PDT
END:DAYLIGHT
END:VTIMEZONE
BEGIN:VEVENT
SUMMARY:Master Gardener’s Plant Sale (at the fairgrounds)
DESCRIPTION:
URL;VALUE=URI:https://newneighborsguide.com/events/master-gardeners-plan
 t-sale-at-the-fairgrounds/
UID:urn:uuid:3b81190d-5307-4950-ba48-98ab3064b38c
STATUS:CONFIRMED
ORGANIZER:
DTSTAMP:20260421T142153Z
DTSTART;VALUE=DATE:20260509
END:VEVENT
END:VCALENDAR