BEGIN:VCALENDAR
METHOD:PUBLISH
VERSION:2.0
CALSCALE:GREGORIAN
PRODID:-//NONSGML WPForms//NONSGML Sugar Calendar Feeds v3.11.0//EN
X-WR-CALNAME:Mochi Tuski Festival
X-WR-CALDESC:New Neighbors Guide
X-WR-TIMEZONE:America/Los_Angeles
BEGIN:VTIMEZONE
TZID:America/Los_Angeles
BEGIN:STANDARD
TZOFFSETFROM:-0700
TZOFFSETTO:-0800
DTSTART:20251102T090000
TZNAME:PST
END:STANDARD
END:VTIMEZONE
BEGIN:VTIMEZONE
TZID:America/Los_Angeles
BEGIN:STANDARD
TZOFFSETFROM:-0700
TZOFFSETTO:-0800
DTSTART:20251102T090000
TZNAME:PST
END:STANDARD
END:VTIMEZONE
BEGIN:VEVENT
SUMMARY:Mochi Tuski Festival
DESCRIPTION:
URL;VALUE=URI:https://newneighborsguide.com/events/mochi-tuski-festival/
UID:urn:uuid:77d45514-8d73-434b-8f3e-a53102720759
STATUS:CONFIRMED
ORGANIZER:
DTSTAMP:20260422T143137Z
DTSTART;VALUE=DATE:20260110
END:VEVENT
END:VCALENDAR