BEGIN:VCALENDAR
METHOD:PUBLISH
VERSION:2.0
CALSCALE:GREGORIAN
PRODID:-//NONSGML WPForms//NONSGML Sugar Calendar Feeds v3.11.0//EN
X-WR-CALNAME:Murder Mystery Dinner Party- I Love The 80's at Ocean5
X-WR-CALDESC:New Neighbors Guide
X-WR-TIMEZONE:America/Los_Angeles
BEGIN:VTIMEZONE
TZID:America/Los_Angeles
BEGIN:STANDARD
TZOFFSETFROM:-0700
TZOFFSETTO:-0800
DTSTART:20251102T090000
TZNAME:PST
END:STANDARD
BEGIN:DAYLIGHT
TZOFFSETFROM:-0800
TZOFFSETTO:-0700
DTSTART:20260308T100000
TZNAME:PDT
END:DAYLIGHT
END:VTIMEZONE
BEGIN:VTIMEZONE
TZID:America/Los_Angeles
BEGIN:STANDARD
TZOFFSETFROM:-0700
TZOFFSETTO:-0800
DTSTART:20251102T090000
TZNAME:PST
END:STANDARD
BEGIN:DAYLIGHT
TZOFFSETFROM:-0800
TZOFFSETTO:-0700
DTSTART:20260308T100000
TZNAME:PDT
END:DAYLIGHT
END:VTIMEZONE
BEGIN:VEVENT
SUMMARY:Murder Mystery Dinner Party- I Love The 80's at Ocean5
DESCRIPTION:Dust off your 80's best! This interactive murder mystery din
 ner is a blast from the past.\n\nOcean5\, Gig Harbor\, WA\nFriday\, Mar 
 13 from 6:30 pm to 9 pm PDT
URL;VALUE=URI:https://newneighborsguide.com/events/murder-mystery-dinner
 -party-i-love-the-80s-at-ocean5/
UID:urn:uuid:233c144e-3448-40f0-bfbd-77a25d5fd002
STATUS:CONFIRMED
ORGANIZER:
DTSTAMP:20260422T105628Z
DTSTART;TZID=America/Los_Angeles:20260313T183000
DTEND;TZID=America/Los_Angeles:20260313T210000
LOCATION:5268 Point Fosdick Drive Northwest
END:VEVENT
END:VCALENDAR