BEGIN:VCALENDAR
METHOD:PUBLISH
VERSION:2.0
CALSCALE:GREGORIAN
PRODID:-//NONSGML WPForms//NONSGML Sugar Calendar Feeds v3.11.0//EN
X-WR-CALNAME:Night at the Mini Museum
X-WR-CALDESC:New Neighbors Guide
X-WR-TIMEZONE:America/Los_Angeles
BEGIN:VTIMEZONE
TZID:America/Los_Angeles
BEGIN:STANDARD
TZOFFSETFROM:-0700
TZOFFSETTO:-0800
DTSTART:20251102T090000
TZNAME:PST
END:STANDARD
END:VTIMEZONE
BEGIN:VTIMEZONE
TZID:America/Los_Angeles
BEGIN:STANDARD
TZOFFSETFROM:-0700
TZOFFSETTO:-0800
DTSTART:20251102T090000
TZNAME:PST
END:STANDARD
END:VTIMEZONE
BEGIN:VEVENT
SUMMARY:Night at the Mini Museum
DESCRIPTION:
URL;VALUE=URI:https://newneighborsguide.com/events/night-at-the-mini-mus
 eum/
UID:urn:uuid:21d59166-e0a9-4ccd-a915-7da5081da60a
STATUS:CONFIRMED
ORGANIZER:
DTSTAMP:20260422T104802Z
DTSTART;TZID=America/Los_Angeles:20260116T173000
DTEND;TZID=America/Los_Angeles:20260116T200000
END:VEVENT
END:VCALENDAR