BEGIN:VCALENDAR
METHOD:PUBLISH
VERSION:2.0
CALSCALE:GREGORIAN
PRODID:-//NONSGML WPForms//NONSGML Sugar Calendar Feeds v3.11.0//EN
X-WR-CALNAME:Open Art Studio Time
X-WR-CALDESC:New Neighbors Guide
X-WR-TIMEZONE:America/Los_Angeles
BEGIN:VTIMEZONE
TZID:America/Los_Angeles
BEGIN:STANDARD
TZOFFSETFROM:-0700
TZOFFSETTO:-0800
DTSTART:20251102T090000
TZNAME:PST
END:STANDARD
END:VTIMEZONE
BEGIN:VTIMEZONE
TZID:America/Los_Angeles
BEGIN:STANDARD
TZOFFSETFROM:-0700
TZOFFSETTO:-0800
DTSTART:20251102T090000
TZNAME:PST
END:STANDARD
END:VTIMEZONE
BEGIN:VEVENT
SUMMARY:Open Art Studio Time
DESCRIPTION:Open Art Night is an opportunity to Bring your projects and 
 work and hang out with friends and make new ones! Free to create and be 
 and if you need supplies just $10 to use some of ours!\n\nRimbert Illust
 ration\, Bremerton\, WA\nThursday\, Feb 12 from 5 pm to 8 pm PST
URL;VALUE=URI:https://newneighborsguide.com/events/open-art-studio-time/
UID:urn:uuid:bf697562-e624-458e-b0f3-010f4684c126
STATUS:CONFIRMED
ORGANIZER:
DTSTAMP:20260422T181051Z
DTSTART;TZID=America/Los_Angeles:20260212T170000
DTEND;TZID=America/Los_Angeles:20260212T200000
LOCATION:617 N Callow Ave
END:VEVENT
END:VCALENDAR