BEGIN:VCALENDAR
METHOD:PUBLISH
VERSION:2.0
CALSCALE:GREGORIAN
PRODID:-//NONSGML WPForms//NONSGML Sugar Calendar Feeds v3.11.0//EN
X-WR-CALNAME:Peninsula Birth\, Baby\, & Beyond Expo
X-WR-CALDESC:New Neighbors Guide
X-WR-TIMEZONE:America/Los_Angeles
BEGIN:VTIMEZONE
TZID:America/Los_Angeles
BEGIN:STANDARD
TZOFFSETFROM:-0700
TZOFFSETTO:-0800
DTSTART:20251102T090000
TZNAME:PST
END:STANDARD
BEGIN:DAYLIGHT
TZOFFSETFROM:-0800
TZOFFSETTO:-0700
DTSTART:20260308T100000
TZNAME:PDT
END:DAYLIGHT
END:VTIMEZONE
BEGIN:VTIMEZONE
TZID:America/Los_Angeles
BEGIN:STANDARD
TZOFFSETFROM:-0700
TZOFFSETTO:-0800
DTSTART:20251102T090000
TZNAME:PST
END:STANDARD
BEGIN:DAYLIGHT
TZOFFSETFROM:-0800
TZOFFSETTO:-0700
DTSTART:20260308T100000
TZNAME:PDT
END:DAYLIGHT
END:VTIMEZONE
BEGIN:VEVENT
SUMMARY:Peninsula Birth\, Baby\, & Beyond Expo
DESCRIPTION:Come check out the Peninsula Birth\, Baby &amp\; Beyond Expo
  for all things related to pregnancy\, birth\, and parenting in one conv
 enient location!\n\nDate: Saturday\, March 28\, 2026\nTime: 10 AM - 1 PM
 \nLocation: Kitsap Sun Pavilion - Fairgrounds\nTickets: $5 (Available in
  advance or at the door!)
URL;VALUE=URI:https://newneighborsguide.com/events/peninsula-birth-baby-
 beyond-expo/
UID:urn:uuid:7f997c18-54ad-444c-8e14-5fff0ea8d441
STATUS:CONFIRMED
ORGANIZER:
DTSTAMP:20260423T120157Z
DTSTART;TZID=America/Los_Angeles:20260328T100000
DTEND;TZID=America/Los_Angeles:20260328T130000
LOCATION:1200 Fairgrounds Road Northwest
END:VEVENT
END:VCALENDAR