BEGIN:VCALENDAR
METHOD:PUBLISH
VERSION:2.0
CALSCALE:GREGORIAN
PRODID:-//NONSGML WPForms//NONSGML Sugar Calendar Feeds v3.11.0//EN
X-WR-CALNAME:Port Gamble Tree Lighting
X-WR-CALDESC:New Neighbors Guide
X-WR-TIMEZONE:America/Los_Angeles
BEGIN:VTIMEZONE
TZID:America/Los_Angeles
BEGIN:STANDARD
TZOFFSETFROM:-0700
TZOFFSETTO:-0800
DTSTART:20251102T090000
TZNAME:PST
END:STANDARD
END:VTIMEZONE
BEGIN:VTIMEZONE
TZID:America/Los_Angeles
BEGIN:STANDARD
TZOFFSETFROM:-0700
TZOFFSETTO:-0800
DTSTART:20251102T090000
TZNAME:PST
END:STANDARD
END:VTIMEZONE
BEGIN:VEVENT
SUMMARY:Port Gamble Tree Lighting
DESCRIPTION:
URL;VALUE=URI:https://newneighborsguide.com/events/port-gamble-tree-ligh
 ting/
UID:urn:uuid:43e57385-9f9b-410e-bc0c-7a0477549e97
STATUS:CONFIRMED
ORGANIZER:
DTSTAMP:20260424T072603Z
DTSTART;TZID=America/Los_Angeles:20251106T174500
DTEND;TZID=America/Los_Angeles:20251106T184500
LOCATION:Rainier Ave
END:VEVENT
END:VCALENDAR