BEGIN:VCALENDAR
METHOD:PUBLISH
VERSION:2.0
CALSCALE:GREGORIAN
PRODID:-//NONSGML WPForms//NONSGML Sugar Calendar Feeds v3.11.0//EN
X-WR-CALNAME:Poulsbo Blues and Jazz Festival 2026
X-WR-CALDESC:New Neighbors Guide
X-WR-TIMEZONE:America/Los_Angeles
BEGIN:VTIMEZONE
TZID:America/Los_Angeles
BEGIN:STANDARD
TZOFFSETFROM:-0700
TZOFFSETTO:-0800
DTSTART:20251102T090000
TZNAME:PST
END:STANDARD
END:VTIMEZONE
BEGIN:VTIMEZONE
TZID:America/Los_Angeles
BEGIN:STANDARD
TZOFFSETFROM:-0700
TZOFFSETTO:-0800
DTSTART:20251102T090000
TZNAME:PST
END:STANDARD
END:VTIMEZONE
BEGIN:VEVENT
SUMMARY:Poulsbo Blues and Jazz Festival 2026
DESCRIPTION:Get ready to groove at the Poulsbo Blues and Jazz Festival 2
 026 on Feb 27-28\, 2026.\n18779 Anderson Parkway\nPoulsbo\, WA 98370
URL;VALUE=URI:https://newneighborsguide.com/events/poulsbo-blues-and-jaz
 z-festival-2026/
UID:urn:uuid:83a683fd-572e-4810-b6c6-2ae8cdda28d6
STATUS:CONFIRMED
ORGANIZER:
DTSTAMP:20260422T232223Z
DTSTART;TZID=America/Los_Angeles:20260227T170000
DTEND;TZID=America/Los_Angeles:20260228T230000
END:VEVENT
END:VCALENDAR