BEGIN:VCALENDAR
METHOD:PUBLISH
VERSION:2.0
CALSCALE:GREGORIAN
PRODID:-//NONSGML WPForms//NONSGML Sugar Calendar Feeds v3.11.0//EN
X-WR-CALNAME:Poulsbo Viking Fest
X-WR-CALDESC:New Neighbors Guide
X-WR-TIMEZONE:America/Los_Angeles
BEGIN:VTIMEZONE
TZID:America/Los_Angeles
BEGIN:DAYLIGHT
TZOFFSETFROM:-0800
TZOFFSETTO:-0700
DTSTART:20260308T100000
TZNAME:PDT
END:DAYLIGHT
END:VTIMEZONE
BEGIN:VTIMEZONE
TZID:America/Los_Angeles
BEGIN:DAYLIGHT
TZOFFSETFROM:-0800
TZOFFSETTO:-0700
DTSTART:20260308T100000
TZNAME:PDT
END:DAYLIGHT
END:VTIMEZONE
BEGIN:VEVENT
SUMMARY:Poulsbo Viking Fest
DESCRIPTION:
URL;VALUE=URI:https://newneighborsguide.com/events/poulsbo-viking-fest/
UID:urn:uuid:998ad844-fcf1-41d7-b40b-6f9c045d1c9f
STATUS:CONFIRMED
ORGANIZER:
DTSTAMP:20260421T085241Z
DTSTART;VALUE=DATE:20260515
DTEND;VALUE=DATE:20260517
END:VEVENT
END:VCALENDAR