BEGIN:VCALENDAR
METHOD:PUBLISH
VERSION:2.0
CALSCALE:GREGORIAN
PRODID:-//NONSGML WPForms//NONSGML Sugar Calendar Feeds v3.11.0//EN
X-WR-CALNAME:Profits Live Band at Ocean5
X-WR-CALDESC:New Neighbors Guide
X-WR-TIMEZONE:America/Los_Angeles
BEGIN:VTIMEZONE
TZID:America/Los_Angeles
BEGIN:STANDARD
TZOFFSETFROM:-0700
TZOFFSETTO:-0800
DTSTART:20251102T090000
TZNAME:PST
END:STANDARD
END:VTIMEZONE
BEGIN:VTIMEZONE
TZID:America/Los_Angeles
BEGIN:STANDARD
TZOFFSETFROM:-0700
TZOFFSETTO:-0800
DTSTART:20251102T090000
TZNAME:PST
END:STANDARD
END:VTIMEZONE
BEGIN:VEVENT
SUMMARY:Profits Live Band at Ocean5
DESCRIPTION:Get ready to rock out with The Profits Live Band\, where the
  music is loud and the energy is high!\n\nFriday\, February 13\nDoors 6p
 m | Show 7pm\nOcean5\, Gig Harbor\n21+ only
URL;VALUE=URI:https://newneighborsguide.com/events/profits-live-band-at-
 ocean5/
UID:urn:uuid:01001bb9-0ac7-42a8-add1-5df48861b836
STATUS:CONFIRMED
ORGANIZER:
DTSTAMP:20260423T103758Z
DTSTART;TZID=America/Los_Angeles:20260213T190000
DTEND;TZID=America/Los_Angeles:20260213T220000
LOCATION:5268 Point Fosdick Drive Northwest
END:VEVENT
END:VCALENDAR