BEGIN:VCALENDAR
METHOD:PUBLISH
VERSION:2.0
CALSCALE:GREGORIAN
PRODID:-//NONSGML WPForms//NONSGML Sugar Calendar Feeds v3.11.0//EN
X-WR-CALNAME:Reindeer (Pool) Games at Kitsap Tennis & Athletic Center
X-WR-CALDESC:New Neighbors Guide
X-WR-TIMEZONE:America/Los_Angeles
BEGIN:VTIMEZONE
TZID:America/Los_Angeles
BEGIN:STANDARD
TZOFFSETFROM:-0700
TZOFFSETTO:-0800
DTSTART:20251102T090000
TZNAME:PST
END:STANDARD
END:VTIMEZONE
BEGIN:VTIMEZONE
TZID:America/Los_Angeles
BEGIN:STANDARD
TZOFFSETFROM:-0700
TZOFFSETTO:-0800
DTSTART:20251102T090000
TZNAME:PST
END:STANDARD
END:VTIMEZONE
BEGIN:VEVENT
SUMMARY:Reindeer (Pool) Games at Kitsap Tennis & Athletic Center
DESCRIPTION:Reindeer (Pool) Games at Kitsap Tennis &amp\; Athletic Cente
 r\n\nDecember 19\, 20255:00 pm - 7:00 pm\n\nKitsap Tennis &amp\; Athleti
 c Center1909 John Carlson Road NE Bremerton WA 98311
URL;VALUE=URI:https://newneighborsguide.com/events/reindeer-pool-games-a
 t-kitsap-tennis-athletic-center/
UID:urn:uuid:b66342be-1e9d-4c9b-b627-cfcddc599dc6
STATUS:CONFIRMED
ORGANIZER:
DTSTAMP:20260423T172747Z
DTSTART;TZID=America/Los_Angeles:20251219T170000
DTEND;TZID=America/Los_Angeles:20251219T190000
LOCATION:1909 John Carlson Road NE
END:VEVENT
END:VCALENDAR