BEGIN:VCALENDAR
METHOD:PUBLISH
VERSION:2.0
CALSCALE:GREGORIAN
PRODID:-//NONSGML WPForms//NONSGML Sugar Calendar Feeds v3.11.0//EN
X-WR-CALNAME:Santa Paws! - Meet Santa
X-WR-CALDESC:New Neighbors Guide
X-WR-TIMEZONE:America/Los_Angeles
BEGIN:VTIMEZONE
TZID:America/Los_Angeles
BEGIN:STANDARD
TZOFFSETFROM:-0700
TZOFFSETTO:-0800
DTSTART:20251102T090000
TZNAME:PST
END:STANDARD
END:VTIMEZONE
BEGIN:VTIMEZONE
TZID:America/Los_Angeles
BEGIN:STANDARD
TZOFFSETFROM:-0700
TZOFFSETTO:-0800
DTSTART:20251102T090000
TZNAME:PST
END:STANDARD
END:VTIMEZONE
BEGIN:VEVENT
SUMMARY:Santa Paws! - Meet Santa
DESCRIPTION:
URL;VALUE=URI:https://newneighborsguide.com/events/santa-paws-meet-santa
 /
UID:urn:uuid:94320f03-1851-4a2b-a428-5cc2769dd5e3
STATUS:CONFIRMED
ORGANIZER:
DTSTAMP:20260424T035723Z
DTSTART;VALUE=DATE:20251214
END:VEVENT
END:VCALENDAR