BEGIN:VCALENDAR
METHOD:PUBLISH
VERSION:2.0
CALSCALE:GREGORIAN
PRODID:-//NONSGML WPForms//NONSGML Sugar Calendar Feeds v3.11.0//EN
X-WR-CALNAME:Share this event  Valentines Day Live Comedy Show at Remedy
 !
X-WR-CALDESC:New Neighbors Guide
X-WR-TIMEZONE:America/Los_Angeles
BEGIN:VTIMEZONE
TZID:America/Los_Angeles
BEGIN:STANDARD
TZOFFSETFROM:-0700
TZOFFSETTO:-0800
DTSTART:20251102T090000
TZNAME:PST
END:STANDARD
END:VTIMEZONE
BEGIN:VTIMEZONE
TZID:America/Los_Angeles
BEGIN:STANDARD
TZOFFSETFROM:-0700
TZOFFSETTO:-0800
DTSTART:20251102T090000
TZNAME:PST
END:STANDARD
END:VTIMEZONE
BEGIN:VEVENT
SUMMARY:Share this event  Valentines Day Live Comedy Show at Remedy!
DESCRIPTION:Special Matinee Start Time of 4PM! Bring a date and enjoy a 
 romantic evening of Live Comedy and Great Food!
URL;VALUE=URI:https://newneighborsguide.com/events/share-this-event-vale
 ntines-day-live-comedy-show-at-remedy/
UID:urn:uuid:97223e56-4915-4315-93b3-54acc7cc62c4
STATUS:CONFIRMED
ORGANIZER:
DTSTAMP:20260423T085205Z
DTSTART;TZID=America/Los_Angeles:20260214T163000
DTEND;TZID=America/Los_Angeles:20260214T173000
END:VEVENT
END:VCALENDAR