BEGIN:VCALENDAR
METHOD:PUBLISH
VERSION:2.0
CALSCALE:GREGORIAN
PRODID:-//NONSGML WPForms//NONSGML Sugar Calendar Feeds v3.11.0//EN
X-WR-CALNAME:Silverdale Holiday Market
X-WR-CALDESC:New Neighbors Guide
X-WR-TIMEZONE:America/Los_Angeles
BEGIN:VTIMEZONE
TZID:America/Los_Angeles
BEGIN:STANDARD
TZOFFSETFROM:-0700
TZOFFSETTO:-0800
DTSTART:20251102T090000
TZNAME:PST
END:STANDARD
END:VTIMEZONE
BEGIN:VTIMEZONE
TZID:America/Los_Angeles
BEGIN:STANDARD
TZOFFSETFROM:-0700
TZOFFSETTO:-0800
DTSTART:20251102T090000
TZNAME:PST
END:STANDARD
END:VTIMEZONE
BEGIN:VEVENT
SUMMARY:Silverdale Holiday Market
DESCRIPTION:
URL;VALUE=URI:https://newneighborsguide.com/events/silverdale-holiday-ma
 rket/
UID:urn:uuid:8fcb73b3-bb76-403a-9d6b-4e6ec34791de
STATUS:CONFIRMED
ORGANIZER:
DTSTAMP:20260422T180103Z
DTSTART;VALUE=DATE:20251214
END:VEVENT
END:VCALENDAR