BEGIN:VCALENDAR
METHOD:PUBLISH
VERSION:2.0
CALSCALE:GREGORIAN
PRODID:-//NONSGML WPForms//NONSGML Sugar Calendar Feeds v3.11.0//EN
X-WR-CALNAME:Stop the Bleed Training
X-WR-CALDESC:New Neighbors Guide
X-WR-TIMEZONE:America/Los_Angeles
BEGIN:VTIMEZONE
TZID:America/Los_Angeles
BEGIN:STANDARD
TZOFFSETFROM:-0700
TZOFFSETTO:-0800
DTSTART:20251102T090000
TZNAME:PST
END:STANDARD
END:VTIMEZONE
BEGIN:VTIMEZONE
TZID:America/Los_Angeles
BEGIN:STANDARD
TZOFFSETFROM:-0700
TZOFFSETTO:-0800
DTSTART:20251102T090000
TZNAME:PST
END:STANDARD
END:VTIMEZONE
BEGIN:VEVENT
SUMMARY:Stop the Bleed Training
DESCRIPTION:American College of Surgeons Committee on Trauma STOP THE BL
 EED course.\n\nCKFR Administration BuildingSilverdale\, WA\nThursday\, M
 ar 5 from 6 pm to 7 pm PST
URL;VALUE=URI:https://newneighborsguide.com/events/stop-the-bleed-traini
 ng/
UID:urn:uuid:3fb8dc63-2d16-4e1a-990a-b378e03a6f9f
STATUS:CONFIRMED
ORGANIZER:
DTSTAMP:20260423T051821Z
DTSTART;TZID=America/Los_Angeles:20260305T180000
DTEND;TZID=America/Los_Angeles:20260305T190000
END:VEVENT
END:VCALENDAR