BEGIN:VCALENDAR
METHOD:PUBLISH
VERSION:2.0
CALSCALE:GREGORIAN
PRODID:-//NONSGML WPForms//NONSGML Sugar Calendar Feeds v3.11.0//EN
X-WR-CALNAME:Symphony Tacoma: A Grand Finale
X-WR-CALDESC:New Neighbors Guide
X-WR-TIMEZONE:America/Los_Angeles
BEGIN:VTIMEZONE
TZID:America/Los_Angeles
BEGIN:DAYLIGHT
TZOFFSETFROM:-0800
TZOFFSETTO:-0700
DTSTART:20260308T100000
TZNAME:PDT
END:DAYLIGHT
END:VTIMEZONE
BEGIN:VTIMEZONE
TZID:America/Los_Angeles
BEGIN:DAYLIGHT
TZOFFSETFROM:-0800
TZOFFSETTO:-0700
DTSTART:20260308T100000
TZNAME:PDT
END:DAYLIGHT
END:VTIMEZONE
BEGIN:VEVENT
SUMMARY:Symphony Tacoma: A Grand Finale
DESCRIPTION:A Grand Finale \n\nMay 9th\, 2:30pm \n\nPantages Theater\,
  Tacoma\n\n253.272.7264 | symphonytacoma.org/event
URL;VALUE=URI:https://newneighborsguide.com/events/symphony-tacoma-a-gra
 nd-finale/
UID:urn:uuid:5cd64c4c-1cba-4ab3-a1c1-79497b90d54c
STATUS:CONFIRMED
ORGANIZER:
DTSTAMP:20260424T084745Z
DTSTART;TZID=America/Los_Angeles:20260509T143000
DTEND;TZID=America/Los_Angeles:20260509T153000
END:VEVENT
END:VCALENDAR