BEGIN:VCALENDAR
METHOD:PUBLISH
VERSION:2.0
CALSCALE:GREGORIAN
PRODID:-//NONSGML WPForms//NONSGML Sugar Calendar Feeds v3.11.0//EN
X-WR-CALNAME:Wayzgoose Winter Market & Craft Party
X-WR-CALDESC:New Neighbors Guide
X-WR-TIMEZONE:America/Los_Angeles
BEGIN:VTIMEZONE
TZID:America/Los_Angeles
BEGIN:STANDARD
TZOFFSETFROM:-0700
TZOFFSETTO:-0800
DTSTART:20251102T090000
TZNAME:PST
END:STANDARD
END:VTIMEZONE
BEGIN:VTIMEZONE
TZID:America/Los_Angeles
BEGIN:STANDARD
TZOFFSETFROM:-0700
TZOFFSETTO:-0800
DTSTART:20251102T090000
TZNAME:PST
END:STANDARD
END:VTIMEZONE
BEGIN:VEVENT
SUMMARY:Wayzgoose Winter Market & Craft Party
DESCRIPTION:
URL;VALUE=URI:https://newneighborsguide.com/events/wayzgoose-winter-mark
 et-craft-party/
UID:urn:uuid:70907315-8cac-4375-b757-4355a89d3d88
STATUS:CONFIRMED
ORGANIZER:
DTSTAMP:20260423T103017Z
DTSTART;TZID=America/Los_Angeles:20251205T170000
DTEND;TZID=America/Los_Angeles:20251205T200000
LOCATION:275 Fifth St
END:VEVENT
END:VCALENDAR